BEGIN:VCALENDAR
VERSION:2.0
PRODID:-//RRYFF - ECPv6.15.12.2//NONSGML v1.0//EN
CALSCALE:GREGORIAN
METHOD:PUBLISH
X-WR-CALNAME:RRYFF
X-ORIGINAL-URL:https://www.rryff.de/wp-rryff-https
X-WR-CALDESC:Veranstaltungen für RRYFF
REFRESH-INTERVAL;VALUE=DURATION:PT1H
X-Robots-Tag:noindex
X-PUBLISHED-TTL:PT1H
BEGIN:VTIMEZONE
TZID:Europe/Berlin
BEGIN:DAYLIGHT
TZOFFSETFROM:+0100
TZOFFSETTO:+0200
TZNAME:CEST
DTSTART:20170326T010000
END:DAYLIGHT
BEGIN:STANDARD
TZOFFSETFROM:+0200
TZOFFSETTO:+0100
TZNAME:CET
DTSTART:20171029T010000
END:STANDARD
BEGIN:DAYLIGHT
TZOFFSETFROM:+0100
TZOFFSETTO:+0200
TZNAME:CEST
DTSTART:20180325T010000
END:DAYLIGHT
BEGIN:STANDARD
TZOFFSETFROM:+0200
TZOFFSETTO:+0100
TZNAME:CET
DTSTART:20181028T010000
END:STANDARD
BEGIN:DAYLIGHT
TZOFFSETFROM:+0100
TZOFFSETTO:+0200
TZNAME:CEST
DTSTART:20190331T010000
END:DAYLIGHT
BEGIN:STANDARD
TZOFFSETFROM:+0200
TZOFFSETTO:+0100
TZNAME:CET
DTSTART:20191027T010000
END:STANDARD
END:VTIMEZONE
BEGIN:VEVENT
DTSTART;TZID=Europe/Berlin:20180922T170000
DTEND;TZID=Europe/Berlin:20180922T174500
DTSTAMP:20260423T055023
CREATED:20180411T233953Z
LAST-MODIFIED:20180926T180324Z
UID:1249-1537635600-1537638300@www.rryff.de
SUMMARY:September'2018 - Event: Kulturtag XXL'2018 Bietigheim
DESCRIPTION:Am Samstag\, den 22. September 2018\, sind wir wieder zum „Kulturtag XXL 2018 Bietigheim“ on Stage – auf der ‚Kronenplatz‘ Bühne!
URL:https://www.rryff.de/wp-rryff-https/event/kulturtagxxl2018-bietigheim-rryff/
LOCATION:KulturtagXXL’2018\, Kronenplatz\, Bietigheim-Bissingen\, 74321
CATEGORIES:Gemeinsame Events,Upcoming Events
ATTACH;FMTTYPE=image/jpeg:https://www.rryff.de/wp-rryff-https/wp-content/uploads/2015/06/RRYFF-logo_500x230px_300dpi_grey_wWebadresse_var_final_swBkrd.jpg
END:VEVENT
END:VCALENDAR