BEGIN:VCALENDAR
VERSION:2.0
PRODID:-//RRYFF - ECPv6.15.12.2//NONSGML v1.0//EN
CALSCALE:GREGORIAN
METHOD:PUBLISH
X-ORIGINAL-URL:https://www.rryff.de/wp-rryff-https
X-WR-CALDESC:Veranstaltungen für RRYFF
REFRESH-INTERVAL;VALUE=DURATION:PT1H
X-Robots-Tag:noindex
X-PUBLISHED-TTL:PT1H
BEGIN:VTIMEZONE
TZID:Europe/Berlin
BEGIN:DAYLIGHT
TZOFFSETFROM:+0100
TZOFFSETTO:+0200
TZNAME:CEST
DTSTART:20180325T010000
END:DAYLIGHT
BEGIN:STANDARD
TZOFFSETFROM:+0200
TZOFFSETTO:+0100
TZNAME:CET
DTSTART:20181028T010000
END:STANDARD
BEGIN:DAYLIGHT
TZOFFSETFROM:+0100
TZOFFSETTO:+0200
TZNAME:CEST
DTSTART:20190331T010000
END:DAYLIGHT
BEGIN:STANDARD
TZOFFSETFROM:+0200
TZOFFSETTO:+0100
TZNAME:CET
DTSTART:20191027T010000
END:STANDARD
BEGIN:DAYLIGHT
TZOFFSETFROM:+0100
TZOFFSETTO:+0200
TZNAME:CEST
DTSTART:20200329T010000
END:DAYLIGHT
BEGIN:STANDARD
TZOFFSETFROM:+0200
TZOFFSETTO:+0100
TZNAME:CET
DTSTART:20201025T010000
END:STANDARD
END:VTIMEZONE
BEGIN:VEVENT
DTSTART;TZID=Europe/Berlin:20190112T200000
DTEND;TZID=Europe/Berlin:20190112T233000
DTSTAMP:20260422T220609
CREATED:20181202T140108Z
LAST-MODIFIED:20191201T150815Z
UID:2196-1547323200-1547335800@www.rryff.de
SUMMARY:Januar´2019 - Event: Live-Club\, Bamberg | RRYFF Album 'Czech Kiss' Party
DESCRIPTION:RRYFF Album ‚Czech Kiss‘ Party\n12.Januar´2019 | Live-Club Bamberg\nWir gehen ‚On-Tour‘ mit unserem erstem Album ‚Czech Kiss‘!\nAls Erstes Tour-Event in 2019\, treten wir am 12.01. 2019 im ‚Live Club‘ in Bamberg auf!
URL:https://www.rryff.de/wp-rryff-https/event/januar2019-event-liveclubbamberg-rryff-albumczechkissparty/
LOCATION:Live-Club Bamberg\, Obere Sandstr. 7\, Bamberg\, 96049\, Deutschland
CATEGORIES:Einzel Events
ATTACH;FMTTYPE=image/jpeg:https://www.rryff.de/wp-rryff-https/wp-content/uploads/2018/12/RRYFF-Poster_AlbumParty_LiveClubBamberg_147x95mm_01d_rryff-logo-transp_07a_facebook_02a_korrLogo_01a_Ausschnitt_01a.jpg
ORGANIZER;CN="RRYFF":MAILTO:kontakt@rryff.de
END:VEVENT
END:VCALENDAR