BEGIN:VCALENDAR
VERSION:2.0
PRODID:-//RRYFF - ECPv6.15.12.2//NONSGML v1.0//EN
CALSCALE:GREGORIAN
METHOD:PUBLISH
X-ORIGINAL-URL:https://www.rryff.de/wp-rryff-https
X-WR-CALDESC:Veranstaltungen für RRYFF
REFRESH-INTERVAL;VALUE=DURATION:PT1H
X-Robots-Tag:noindex
X-PUBLISHED-TTL:PT1H
BEGIN:VTIMEZONE
TZID:Europe/Berlin
BEGIN:DAYLIGHT
TZOFFSETFROM:+0100
TZOFFSETTO:+0200
TZNAME:CEST
DTSTART:20180325T010000
END:DAYLIGHT
BEGIN:STANDARD
TZOFFSETFROM:+0200
TZOFFSETTO:+0100
TZNAME:CET
DTSTART:20181028T010000
END:STANDARD
BEGIN:DAYLIGHT
TZOFFSETFROM:+0100
TZOFFSETTO:+0200
TZNAME:CEST
DTSTART:20190331T010000
END:DAYLIGHT
BEGIN:STANDARD
TZOFFSETFROM:+0200
TZOFFSETTO:+0100
TZNAME:CET
DTSTART:20191027T010000
END:STANDARD
BEGIN:DAYLIGHT
TZOFFSETFROM:+0100
TZOFFSETTO:+0200
TZNAME:CEST
DTSTART:20200329T010000
END:DAYLIGHT
BEGIN:STANDARD
TZOFFSETFROM:+0200
TZOFFSETTO:+0100
TZNAME:CET
DTSTART:20201025T010000
END:STANDARD
END:VTIMEZONE
BEGIN:VEVENT
DTSTART;TZID=Europe/Berlin:20190505T080000
DTEND;TZID=Europe/Berlin:20190505T170000
DTSTAMP:20260422T142428
CREATED:20190505T121028Z
LAST-MODIFIED:20190505T121028Z
UID:2489-1557043200-1557075600@www.rryff.de
SUMMARY:April´2019 - Event: Klinikum Esslingen | Spendenübergabe an Onkologie\, RRYFF Benefizkonzert2019 'Highway to Help 3.0'
DESCRIPTION:Spendenübergabe von RRYFF Benefizkonzert 2019 ‚Highway to Help 3.0‘\n26.April´2019 | Klinikum Esslingen\nÜbergabe des gesammelten Spendenbetrags vom  Benefizkonzert´2019 – an die Onkologie-Abteilung!\nRRYFF bei Leitung des Klinikums Esslingen!\nRRYFF rockte zusammen mit der bekannten Cover-Band ‚The 2nd CRASH‚ am 30. März 2019 im ‚4Peh‘ in Esslingen bei unserer Benefizveranstaltung ‚Highway to Help 3.0‘ zu Gunsten der Onkologie des Klinikums Esslingen. \nMit unseren Songs vom CD-Album ‚Check Kiss‘ eröffneten wir das Benefizkonzert und heizten Eure Spenden-Aktionen an.\nAttraktionen wie beispielsweise ein zu ersteigernder Hauptpreis: ‚RRYFF-Sofakonzert/Gartenparty/Privat-Gig inklusive Freibier-Kästen‘ u.a. tolle Preise\, erzielte den sensationellen Spendeneinstieg von 800 Euro in der Ersten Runde – und gipfelten in der anschließenden Spenden-Party durch ‚THE 2nd CRASH‘ dann in dem Spendenhoch von über 1200 Euro am Ende! \nDie gemeinsame Jam-Session von ‚RRYFF‘ und ‚2nd CRASH‘ brachte unser ‚Highway to Help 3.0‘ Event zum beifallumtosten Abschluss! \nEure letztjährigen bereits sehr großzügige Spendenbereitschaft\, wurde von Euch diese Jahr nochmals getoppt und war damit ein phantastisches Highlight! \nDiese herausragend große Spendensumme wurde von der Klinik-Leitung mit tiefer Dankbarkeit entgegengenommen bei der persönlichen Überreichung von RRYFF  im Klinikum Esslingen am 26.April´2019! Siehe unser Bericht auf unserer Website darüber! \nEure Spendensumme\, dient bisher nicht möglichen Anschaffungen in der Onkologie für krebskranke Patienten im Klinik Esslingen! \nHerzlichsten Dank an Euch!!!
URL:https://www.rryff.de/wp-rryff-https/event/april2019-event-klinikum-esslingen-spendenuebergabe-an-onkologie-rryff-benefizkonzert2019-highway-to-help-3-0/
LOCATION:Baden-Württemberg
CATEGORIES:Success-Highlight
ATTACH;FMTTYPE=image/jpeg:https://www.rryff.de/wp-rryff-https/wp-content/uploads/2019/05/spendenübergabe-2019-04-26-rryff-klinikum-esslingen.jpg
END:VEVENT
END:VCALENDAR