BEGIN:VCALENDAR
VERSION:2.0
PRODID:-//RRYFF - ECPv6.15.12.2//NONSGML v1.0//EN
CALSCALE:GREGORIAN
METHOD:PUBLISH
X-ORIGINAL-URL:https://www.rryff.de/wp-rryff-https
X-WR-CALDESC:Veranstaltungen für RRYFF
REFRESH-INTERVAL;VALUE=DURATION:PT1H
X-Robots-Tag:noindex
X-PUBLISHED-TTL:PT1H
BEGIN:VTIMEZONE
TZID:Europe/Berlin
BEGIN:DAYLIGHT
TZOFFSETFROM:+0100
TZOFFSETTO:+0200
TZNAME:CEST
DTSTART:20190331T010000
END:DAYLIGHT
BEGIN:STANDARD
TZOFFSETFROM:+0200
TZOFFSETTO:+0100
TZNAME:CET
DTSTART:20191027T010000
END:STANDARD
BEGIN:DAYLIGHT
TZOFFSETFROM:+0100
TZOFFSETTO:+0200
TZNAME:CEST
DTSTART:20200329T010000
END:DAYLIGHT
BEGIN:STANDARD
TZOFFSETFROM:+0200
TZOFFSETTO:+0100
TZNAME:CET
DTSTART:20201025T010000
END:STANDARD
BEGIN:DAYLIGHT
TZOFFSETFROM:+0100
TZOFFSETTO:+0200
TZNAME:CEST
DTSTART:20210328T010000
END:DAYLIGHT
BEGIN:STANDARD
TZOFFSETFROM:+0200
TZOFFSETTO:+0100
TZNAME:CET
DTSTART:20211031T010000
END:STANDARD
END:VTIMEZONE
BEGIN:VEVENT
DTSTART;TZID=Europe/Berlin:20200328T200000
DTEND;TZID=Europe/Berlin:20200328T223000
DTSTAMP:20260421T180131
CREATED:20191201T150439Z
LAST-MODIFIED:20211030T190353Z
UID:2674-1585425600-1585434600@www.rryff.de
SUMMARY:März'2020 - Event: Live-Club Bamberg | RRYFF Live | wird nachgeholt 27.November2021
DESCRIPTION:RRYFF im Live-Club on Tour mit ‚Czech Kiss‚\nehemals 28.März´2020 | Live-Club Bamberg | verlegt auf 27.November 2021\nWir sind wieder ‚On-Tour‚ im Live-Club Bamberg mit unseren Hits vom Album ‚Czech Kiss‚ und unseren Neuesten Songs!\nAls wichtiges Tour-Event in 2020\, rocken wir wieder die tolle Bühne im ‚Live Club‚ in Bamberg! \nEure RRYFFs! \n… Keep on rocking!
URL:https://www.rryff.de/wp-rryff-https/event/maerz2020-event-live-club-bamberg-rryff-live/
LOCATION:Live-Club Bamberg\, Obere Sandstr. 7\, Bamberg\, 96049\, Deutschland
CATEGORIES:Einzel Events,Upcoming Events
ATTACH;FMTTYPE=image/jpeg:https://www.rryff.de/wp-rryff-https/wp-content/uploads/2018/12/P1020622_opt.jpg
ORGANIZER;CN="Live-Club Bamberg":MAILTO:info@live-club.de
END:VEVENT
END:VCALENDAR