BEGIN:VCALENDAR
VERSION:2.0
PRODID:-//RRYFF - ECPv6.15.12.2//NONSGML v1.0//EN
CALSCALE:GREGORIAN
METHOD:PUBLISH
X-WR-CALNAME:RRYFF
X-ORIGINAL-URL:https://www.rryff.de/wp-rryff-https
X-WR-CALDESC:Veranstaltungen für RRYFF
REFRESH-INTERVAL;VALUE=DURATION:PT1H
X-Robots-Tag:noindex
X-PUBLISHED-TTL:PT1H
BEGIN:VTIMEZONE
TZID:Europe/Berlin
BEGIN:DAYLIGHT
TZOFFSETFROM:+0100
TZOFFSETTO:+0200
TZNAME:CEST
DTSTART:20200329T010000
END:DAYLIGHT
BEGIN:STANDARD
TZOFFSETFROM:+0200
TZOFFSETTO:+0100
TZNAME:CET
DTSTART:20201025T010000
END:STANDARD
BEGIN:DAYLIGHT
TZOFFSETFROM:+0100
TZOFFSETTO:+0200
TZNAME:CEST
DTSTART:20210328T010000
END:DAYLIGHT
BEGIN:STANDARD
TZOFFSETFROM:+0200
TZOFFSETTO:+0100
TZNAME:CET
DTSTART:20211031T010000
END:STANDARD
BEGIN:DAYLIGHT
TZOFFSETFROM:+0100
TZOFFSETTO:+0200
TZNAME:CEST
DTSTART:20220327T010000
END:DAYLIGHT
BEGIN:STANDARD
TZOFFSETFROM:+0200
TZOFFSETTO:+0100
TZNAME:CET
DTSTART:20221030T010000
END:STANDARD
END:VTIMEZONE
BEGIN:VEVENT
DTSTART;TZID=Europe/Berlin:20211127T200000
DTEND;TZID=Europe/Berlin:20211127T223000
DTSTAMP:20260420T055813
CREATED:20211030T175432Z
LAST-MODIFIED:20211124T233228Z
UID:3301-1638043200-1638052200@www.rryff.de
SUMMARY:November'2021 - Event: Live-Club Bamberg | RRYFF Live
DESCRIPTION:Rock’n Roll live im LIVE-CLUB Bamberg – Abgesagt wegen Pandemie\nEure Rockband RRYFF ist live im regional bekannten Live-Club und lädt Euch zu einer Rock’N Roll Power Session mit unserem Album ‚Czech Kiss‘ ein!\nEuch erwartet ein Konzert in großartigem Ambiente und neuen und ausgewählten Songs von ‚Czech Kiss‘ .\nDies ist ein Nachholtermin aus 2020.\n\nTERMIN abgesagt wegen Pandemiebedingungen – Sorry\, wie informieren Euch wenn Ersatz-Termin feststeht!\n——————————————————————————————-\n27. November 2021  (Samstag) ab 20:30 Uhr!\nEinlass: ab 20:00\nEintritt frei!\n\nBitte 3G-Regeln beachten!\n\nÜber Euren Besuch freuen wir uns 🙂\nDas wird mega!!!\n\n——————————————————————————————-
URL:https://www.rryff.de/wp-rryff-https/event/november2021-event-live-club-bamberg-rryff-live/
LOCATION:Live-Club Bamberg\, Obere Sandstr. 7\, Bamberg\, 96049\, Deutschland
CATEGORIES:Einzel Events,Upcoming Events
ATTACH;FMTTYPE=image/jpeg:https://www.rryff.de/wp-rryff-https/wp-content/uploads/2018/12/P1020622_opt.jpg
ORGANIZER;CN="Live-Club Bamberg":MAILTO:info@live-club.de
END:VEVENT
BEGIN:VEVENT
DTSTART;TZID=Europe/Berlin:20211127T200000
DTEND;TZID=Europe/Berlin:20211127T233000
DTSTAMP:20260420T055813
CREATED:20211010T130031Z
LAST-MODIFIED:20211030T192822Z
UID:3050-1638043200-1638055800@www.rryff.de
SUMMARY:RRYFF nächste Events´2021 in Planung
DESCRIPTION:Unsere nächsten Events´2021 sind in Vorbereitung!\nWeitere Auftritte und Events unserer Tour’2021 sind aktuell in Vorbereitung und Koordination zu den gelockerten und jeweils geltenden Regelungen:-) \nDie anstehenden aktuellen Gigs findet Ihr dann in den kommenden Wochen hier!\nCheckt bitte unsere Event-Liste und die News im Blog sowie unsere Ankündigungen auf Facebook! \n  \nBis demnächst bei den anstehenden Gigs dann…\n… Keep on rocking! \nEure RRYFFs
URL:https://www.rryff.de/wp-rryff-https/event/rryff-naechste-events2021/
LOCATION:Baden-Württemberg
CATEGORIES:Einzel Events,Upcoming Events
ATTACH;FMTTYPE=image/jpeg:https://www.rryff.de/wp-rryff-https/wp-content/uploads/2015/06/on-stages-vintage.jpg
END:VEVENT
END:VCALENDAR