BEGIN:VCALENDAR
VERSION:2.0
PRODID:-//RRYFF - ECPv6.15.12.2//NONSGML v1.0//EN
CALSCALE:GREGORIAN
METHOD:PUBLISH
X-WR-CALNAME:RRYFF
X-ORIGINAL-URL:https://www.rryff.de/wp-rryff-https
X-WR-CALDESC:Veranstaltungen für RRYFF
REFRESH-INTERVAL;VALUE=DURATION:PT1H
X-Robots-Tag:noindex
X-PUBLISHED-TTL:PT1H
BEGIN:VTIMEZONE
TZID:Europe/Berlin
BEGIN:DAYLIGHT
TZOFFSETFROM:+0100
TZOFFSETTO:+0200
TZNAME:CEST
DTSTART:20210328T010000
END:DAYLIGHT
BEGIN:STANDARD
TZOFFSETFROM:+0200
TZOFFSETTO:+0100
TZNAME:CET
DTSTART:20211031T010000
END:STANDARD
BEGIN:DAYLIGHT
TZOFFSETFROM:+0100
TZOFFSETTO:+0200
TZNAME:CEST
DTSTART:20220327T010000
END:DAYLIGHT
BEGIN:STANDARD
TZOFFSETFROM:+0200
TZOFFSETTO:+0100
TZNAME:CET
DTSTART:20221030T010000
END:STANDARD
BEGIN:DAYLIGHT
TZOFFSETFROM:+0100
TZOFFSETTO:+0200
TZNAME:CEST
DTSTART:20230326T010000
END:DAYLIGHT
BEGIN:STANDARD
TZOFFSETFROM:+0200
TZOFFSETTO:+0100
TZNAME:CET
DTSTART:20231029T010000
END:STANDARD
END:VTIMEZONE
BEGIN:VEVENT
DTSTART;TZID=Europe/Berlin:20220523T080000
DTEND;TZID=Europe/Berlin:20220523T170000
DTSTAMP:20260419T184430
CREATED:20220523T091935Z
LAST-MODIFIED:20230105T194103Z
UID:3366-1653292800-1653325200@www.rryff.de
SUMMARY:RRYFF nächste Events´2022 in Planung
DESCRIPTION:Unsere nächsten Events´2022 sind in Vorbereitung!\nWeitere Auftritte und Events unserer Tour’2022 sind aktuell in Vorbereitung und Koordination zu den gelockerten und jeweils geltenden Regelungen:-) \nDie anstehenden aktuellen Gigs findet Ihr dann in den kommenden Wochen hier!\nCheckt bitte unsere Event-Liste und die News im Blog sowie unsere Ankündigungen auf Facebook! \n  \nBis demnächst bei den anstehenden Gigs dann…\n… Keep on rocking! \nEure RRYFFs
URL:https://www.rryff.de/wp-rryff-https/event/rryff-naechste-events2022-in-planung/
LOCATION:Baden-Württemberg
CATEGORIES:Einzel Events,Upcoming Events
ATTACH;FMTTYPE=image/jpeg:https://www.rryff.de/wp-rryff-https/wp-content/uploads/2015/06/on-stages-vintage.jpg
END:VEVENT
END:VCALENDAR