BEGIN:VCALENDAR
VERSION:2.0
PRODID:-//RRYFF - ECPv6.15.12.2//NONSGML v1.0//EN
CALSCALE:GREGORIAN
METHOD:PUBLISH
X-ORIGINAL-URL:https://www.rryff.de/wp-rryff-https
X-WR-CALDESC:Veranstaltungen für RRYFF
REFRESH-INTERVAL;VALUE=DURATION:PT1H
X-Robots-Tag:noindex
X-PUBLISHED-TTL:PT1H
BEGIN:VTIMEZONE
TZID:Europe/Berlin
BEGIN:DAYLIGHT
TZOFFSETFROM:+0100
TZOFFSETTO:+0200
TZNAME:CEST
DTSTART:20180325T010000
END:DAYLIGHT
BEGIN:STANDARD
TZOFFSETFROM:+0200
TZOFFSETTO:+0100
TZNAME:CET
DTSTART:20181028T010000
END:STANDARD
BEGIN:DAYLIGHT
TZOFFSETFROM:+0100
TZOFFSETTO:+0200
TZNAME:CEST
DTSTART:20190331T010000
END:DAYLIGHT
BEGIN:STANDARD
TZOFFSETFROM:+0200
TZOFFSETTO:+0100
TZNAME:CET
DTSTART:20191027T010000
END:STANDARD
BEGIN:DAYLIGHT
TZOFFSETFROM:+0100
TZOFFSETTO:+0200
TZNAME:CEST
DTSTART:20200329T010000
END:DAYLIGHT
BEGIN:STANDARD
TZOFFSETFROM:+0200
TZOFFSETTO:+0100
TZNAME:CET
DTSTART:20201025T010000
END:STANDARD
END:VTIMEZONE
BEGIN:VEVENT
DTSTART;TZID=Europe/Berlin:20190430T200000
DTEND;TZID=Europe/Berlin:20190501T200000
DTSTAMP:20260422T144040
CREATED:20190422T102349Z
LAST-MODIFIED:20190422T102711Z
UID:2435-1556654400-1556740800@www.rryff.de
SUMMARY:April´2019 - Event: Hillsons\, Stuttgart | RRYFF 'Tanz in den Mai' - featuring Gracefire
DESCRIPTION:RRYFF Benefizkonzert 2019 ‚Highway to Help 3.0‘\n30.April´2019 | Hillsons Stuttgart\nTanz in den Mai!\nRRYFF zusammen mit der Rockband ‚Gracefire‘!\nRRYFF spielt zum ‚Tanz in den !.Mai´2019′\, zusammen mit der bekannten Rockband ‚GraceFire‘ am 30. April 2019 im ‚Hillsons‘ in Stuttgart.\nEröffnet wird die Tanzparty von GraceFire mit ihren fetzigen Rocksongs! Danach könnt Ihr mit uns RRYFFs in den 1.Mai rocken& abtanzen!
URL:https://www.rryff.de/wp-rryff-https/event/april2019-event-hillsons-stuttgart-rryff-tanz-in-den-mai-featuring-gracefire/
LOCATION:Hillsons Stuttgart\, Hauptstätter Str. 57\, Stuttgart\, 70178
CATEGORIES:Einzel Events,Upcoming Events
ATTACH;FMTTYPE=image/jpeg:https://www.rryff.de/wp-rryff-https/wp-content/uploads/2018/12/P1020622_opt.jpg
ORGANIZER;CN="RRYFF":MAILTO:kontakt@rryff.de
END:VEVENT
END:VCALENDAR