BEGIN:VCALENDAR
VERSION:2.0
PRODID:-//RRYFF - ECPv6.15.12.2//NONSGML v1.0//EN
CALSCALE:GREGORIAN
METHOD:PUBLISH
X-WR-CALNAME:RRYFF
X-ORIGINAL-URL:https://www.rryff.de/wp-rryff-https
X-WR-CALDESC:Veranstaltungen für RRYFF
REFRESH-INTERVAL;VALUE=DURATION:PT1H
X-Robots-Tag:noindex
X-PUBLISHED-TTL:PT1H
BEGIN:VTIMEZONE
TZID:Europe/Berlin
BEGIN:DAYLIGHT
TZOFFSETFROM:+0100
TZOFFSETTO:+0200
TZNAME:CEST
DTSTART:20180325T010000
END:DAYLIGHT
BEGIN:STANDARD
TZOFFSETFROM:+0200
TZOFFSETTO:+0100
TZNAME:CET
DTSTART:20181028T010000
END:STANDARD
BEGIN:DAYLIGHT
TZOFFSETFROM:+0100
TZOFFSETTO:+0200
TZNAME:CEST
DTSTART:20190331T010000
END:DAYLIGHT
BEGIN:STANDARD
TZOFFSETFROM:+0200
TZOFFSETTO:+0100
TZNAME:CET
DTSTART:20191027T010000
END:STANDARD
BEGIN:DAYLIGHT
TZOFFSETFROM:+0100
TZOFFSETTO:+0200
TZNAME:CEST
DTSTART:20200329T010000
END:DAYLIGHT
BEGIN:STANDARD
TZOFFSETFROM:+0200
TZOFFSETTO:+0100
TZNAME:CET
DTSTART:20201025T010000
END:STANDARD
END:VTIMEZONE
BEGIN:VEVENT
DTSTART;TZID=Europe/Berlin:20190519T000000
DTEND;TZID=Europe/Berlin:20190731T000000
DTSTAMP:20260422T124236
CREATED:20190522T220528Z
LAST-MODIFIED:20190522T221302Z
UID:2533-1558224000-1564531200@www.rryff.de
SUMMARY:RRYFF nächste Events´2019
DESCRIPTION:Unsere nächsten Events´2019 sind aktuell in Vorbereitung!\nWeitere Auftritte sind aktuell in der finalen Abstimmung mit den Veranstaltern 🙂 \n  \nWeitere Gigs findet Ihr dann in den kommenden Wochen hier!\nIhr könnt sie demnächst hier und in der Event-Liste \n  \nBis demnächst bei den anstehenden Gigs dann… Keep on rocking \nEure RRYFFs
URL:https://www.rryff.de/wp-rryff-https/event/rryff-naechste-upcoming-events/
LOCATION:Baden-Württemberg
CATEGORIES:Upcoming Events
ATTACH;FMTTYPE=image/jpeg:https://www.rryff.de/wp-rryff-https/wp-content/uploads/2018/12/P1020622_opt.jpg
END:VEVENT
BEGIN:VEVENT
DTSTART;TZID=Europe/Berlin:20190629T151500
DTEND;TZID=Europe/Berlin:20190629T161500
DTSTAMP:20260422T124236
CREATED:20190607T141512Z
LAST-MODIFIED:20190607T142125Z
UID:2565-1561821300-1561824900@www.rryff.de
SUMMARY:RRYFF at '49. Marktplatzfest Ludwigsburg'
DESCRIPTION:RRYFF at ’49. Marktplatzfest Ludwigsburg‘\n29.Juni´2019 | Ludwigsburg\nIhr habt uns zur Teilnahme beim  jährlichen Marktplatzfest Online gewählt!\nHerzlichen Dank an Euch für Eure Stimmen beim Online-Voting zur Teilnahme beim Marktplatzfest´2019 in Ludwigsburg!\nWir haben es mit Euren 400 Stimmen auf den Zweiten Platz geschafft! \nAm 29. Juni 2019 um 15:15 Uhr spielen wir für Euch!\nauf der KREISSPARKASSEN-Bühne (Wilhelmstraße)…\n… unsere eigenkomponierten Rocksongs und Rockballaden als besonderes Erlebnis im Programm der nominierten Künstler auf der Bühne beim 49.Marktplatzfest in Ludwigsburg! \n  \nWir freuen uns auf den Auftritt für Euch – Keep on rocking!
URL:https://www.rryff.de/wp-rryff-https/event/rryff-at-49-marktplatzfest-ludwigsburg/
LOCATION:Marktplatzfest Ludwigsburg\, Marktplatz\, Ludwigsburg\, 71634\, Deutschland
CATEGORIES:Gemeinsame Events,Upcoming Events
ATTACH;FMTTYPE=image/jpeg:https://www.rryff.de/wp-rryff-https/wp-content/uploads/2018/12/P1020622_opt.jpg
END:VEVENT
END:VCALENDAR