BEGIN:VCALENDAR
VERSION:2.0
PRODID:-//RRYFF - ECPv6.15.12.2//NONSGML v1.0//EN
CALSCALE:GREGORIAN
METHOD:PUBLISH
X-WR-CALNAME:RRYFF
X-ORIGINAL-URL:https://www.rryff.de/wp-rryff-https
X-WR-CALDESC:Veranstaltungen für RRYFF
REFRESH-INTERVAL;VALUE=DURATION:PT1H
X-Robots-Tag:noindex
X-PUBLISHED-TTL:PT1H
BEGIN:VTIMEZONE
TZID:Europe/Berlin
BEGIN:DAYLIGHT
TZOFFSETFROM:+0100
TZOFFSETTO:+0200
TZNAME:CEST
DTSTART:20180325T010000
END:DAYLIGHT
BEGIN:STANDARD
TZOFFSETFROM:+0200
TZOFFSETTO:+0100
TZNAME:CET
DTSTART:20181028T010000
END:STANDARD
BEGIN:DAYLIGHT
TZOFFSETFROM:+0100
TZOFFSETTO:+0200
TZNAME:CEST
DTSTART:20190331T010000
END:DAYLIGHT
BEGIN:STANDARD
TZOFFSETFROM:+0200
TZOFFSETTO:+0100
TZNAME:CET
DTSTART:20191027T010000
END:STANDARD
BEGIN:DAYLIGHT
TZOFFSETFROM:+0100
TZOFFSETTO:+0200
TZNAME:CEST
DTSTART:20200329T010000
END:DAYLIGHT
BEGIN:STANDARD
TZOFFSETFROM:+0200
TZOFFSETTO:+0100
TZNAME:CET
DTSTART:20201025T010000
END:STANDARD
END:VTIMEZONE
BEGIN:VEVENT
DTSTART;TZID=Europe/Berlin:20191011T200000
DTEND;TZID=Europe/Berlin:20191011T230000
DTSTAMP:20260422T012246
CREATED:20190922T150110Z
LAST-MODIFIED:20191201T133813Z
UID:2595-1570824000-1570834800@www.rryff.de
SUMMARY:Okt´2019 - Event: 4Peh\, Esslingen | RRYFF (geändert)
DESCRIPTION:RYFF im ‚4Peh‘ in Esslingen (geändert)\n11.10.2019 | Esslingen\nLeider mußten wir das Rocken im ‚4Peh‘ in Esslingen absagen – Danke im Voraus für Euer Verständnis! \nNach unserem Benefizkonzert´2019 (am 30.März 2019) freuten wir uns darauf\, Euch unsere Hits des Albums und neue Songs zu präsentieren! \nJedoch mussten wir diesen angekündigten Termin ändern – ein andermal zu einem späteren Termin im 4Peh dann also\, wir informieren Euch natürlich hier und auf Facebook darüber! \nBitte habt noch etwas Geduld … Keep on rocking! \nErsatzweise …\nAuftritt im Eisbär Esslingen\, 09.Nov.2019\nAlso später an einem anderen Wochenende und anderer Location treffen wir uns Live: Sa. 09.Nov. 2019 im Eisbär in Esslingen \nbei unserem Auftritt im Eisbär Esslingen könnt Ihr uns wieder Live erleben! \nMehr zu diesem speziellen Event … \nDas wird ein cooles Ereignis … Keep on rocking! 
URL:https://www.rryff.de/wp-rryff-https/event/sep2019-event-4peh-essligen-rryff/
LOCATION:4Peh Esslingen\, Flandernstraße 99\, Esslingen\, 73732\, Deutschland
CATEGORIES:Einzel Events,Upcoming Events
ATTACH;FMTTYPE=image/jpeg:https://www.rryff.de/wp-rryff-https/wp-content/uploads/2018/12/P1020622_opt.jpg
ORGANIZER;CN="RRYFF":MAILTO:kontakt@rryff.de
END:VEVENT
BEGIN:VEVENT
DTSTART;TZID=Europe/Berlin:20191019T200000
DTEND;TZID=Europe/Berlin:20191019T230000
DTSTAMP:20260422T012246
CREATED:20191018T145302Z
LAST-MODIFIED:20191201T134015Z
UID:2592-1571515200-1571526000@www.rryff.de
SUMMARY:Okt´2019 - Event: Eisbär\, Esslingen | RRYFF (verschoben)
DESCRIPTION:RYFF beim ‚Eisbär‘ in Esslingen\n19.10.2019 | Esslingen (verschoben auf 09.11.2019)\nUnser Erstes Konzert im ‚Eisbär‘! Verschoben vom 19.Oktober auf 09.November!\nWir rocken die Bühne für den Hauptgewinner unseres diesjährigen Benefizkonzerts´2019 (war am 30.März 2019 im 4Peh)! \nLeider mussten wir den Auftritt im ‚Eisbär‘ verlegen auf einen späteren Termin\, den 09. November 2019! \nTut uns leid – aber eine schwere Grippe hat unseren Leadgitarrist außer Kraft gesetzt! \nNatürlich informieren wir Euch über den Ersatztermin (09.Nobember 2019) für dieses außergewöhnliche Event – ist nur verschoben … Keep on rocking! 
URL:https://www.rryff.de/wp-rryff-https/event/sep2019-event-eisbaer-essligen-rryff/
LOCATION:Eisbär Esslingen\, Marktplatz 4a\, Esslingen\, 73738\, Deutschland
CATEGORIES:Einzel Events,Upcoming Events
ATTACH;FMTTYPE=image/jpeg:https://www.rryff.de/wp-rryff-https/wp-content/uploads/2018/12/P1020622_opt.jpg
ORGANIZER;CN="RRYFF":MAILTO:kontakt@rryff.de
END:VEVENT
END:VCALENDAR