BEGIN:VCALENDAR
VERSION:2.0
PRODID:-//RRYFF - ECPv6.15.12.2//NONSGML v1.0//EN
CALSCALE:GREGORIAN
METHOD:PUBLISH
X-ORIGINAL-URL:https://www.rryff.de/wp-rryff-https
X-WR-CALDESC:Veranstaltungen für RRYFF
REFRESH-INTERVAL;VALUE=DURATION:PT1H
X-Robots-Tag:noindex
X-PUBLISHED-TTL:PT1H
BEGIN:VTIMEZONE
TZID:Europe/Berlin
BEGIN:DAYLIGHT
TZOFFSETFROM:+0100
TZOFFSETTO:+0200
TZNAME:CEST
DTSTART:20200329T010000
END:DAYLIGHT
BEGIN:STANDARD
TZOFFSETFROM:+0200
TZOFFSETTO:+0100
TZNAME:CET
DTSTART:20201025T010000
END:STANDARD
BEGIN:DAYLIGHT
TZOFFSETFROM:+0100
TZOFFSETTO:+0200
TZNAME:CEST
DTSTART:20210328T010000
END:DAYLIGHT
BEGIN:STANDARD
TZOFFSETFROM:+0200
TZOFFSETTO:+0100
TZNAME:CET
DTSTART:20211031T010000
END:STANDARD
BEGIN:DAYLIGHT
TZOFFSETFROM:+0100
TZOFFSETTO:+0200
TZNAME:CEST
DTSTART:20220327T010000
END:DAYLIGHT
BEGIN:STANDARD
TZOFFSETFROM:+0200
TZOFFSETTO:+0100
TZNAME:CET
DTSTART:20221030T010000
END:STANDARD
END:VTIMEZONE
BEGIN:VEVENT
DTSTART;TZID=Europe/Berlin:20210821T180000
DTEND;TZID=Europe/Berlin:20210821T233000
DTSTAMP:20260420T095035
CREATED:20220523T140359Z
LAST-MODIFIED:20220523T140407Z
UID:3420-1629568800-1629588600@www.rryff.de
SUMMARY:Aug'2021 - Privat-Gartenparty'2021 - RRYFF wieder bei Stammfan Hans !
DESCRIPTION:Es hat mittlerweile bereits Tradition\n… unser jährliches außergewöhnliches Event in individuellem Style und persönlichen Ambiente in der berüchtigten Location von Hans´Garten. \nSpezielle Performance mit Moonlight-Dancing und Psychedelic Lightshow…
URL:https://www.rryff.de/wp-rryff-https/event/aug2021-privat-gartenparty2021-rryff-wieder-bei-stammfan-hans/
LOCATION:Hans´Gartenparty\, Stuttgart\, 70435\, Deutschland
CATEGORIES:Gemeinsame Events
ATTACH;FMTTYPE=image/jpeg:https://www.rryff.de/wp-rryff-https/wp-content/uploads/2015/06/RRYFF-logo_500x230px_300dpi_grey_wWebadresse_var_final_swBkrd.jpg
END:VEVENT
END:VCALENDAR