BEGIN:VCALENDAR
VERSION:2.0
PRODID:-//RRYFF - ECPv6.15.12.2//NONSGML v1.0//EN
CALSCALE:GREGORIAN
METHOD:PUBLISH
X-WR-CALNAME:RRYFF
X-ORIGINAL-URL:https://www.rryff.de/wp-rryff-https
X-WR-CALDESC:Veranstaltungen für RRYFF
REFRESH-INTERVAL;VALUE=DURATION:PT1H
X-Robots-Tag:noindex
X-PUBLISHED-TTL:PT1H
BEGIN:VTIMEZONE
TZID:Europe/Berlin
BEGIN:DAYLIGHT
TZOFFSETFROM:+0100
TZOFFSETTO:+0200
TZNAME:CEST
DTSTART:20200329T010000
END:DAYLIGHT
BEGIN:STANDARD
TZOFFSETFROM:+0200
TZOFFSETTO:+0100
TZNAME:CET
DTSTART:20201025T010000
END:STANDARD
BEGIN:DAYLIGHT
TZOFFSETFROM:+0100
TZOFFSETTO:+0200
TZNAME:CEST
DTSTART:20210328T010000
END:DAYLIGHT
BEGIN:STANDARD
TZOFFSETFROM:+0200
TZOFFSETTO:+0100
TZNAME:CET
DTSTART:20211031T010000
END:STANDARD
BEGIN:DAYLIGHT
TZOFFSETFROM:+0100
TZOFFSETTO:+0200
TZNAME:CEST
DTSTART:20220327T010000
END:DAYLIGHT
BEGIN:STANDARD
TZOFFSETFROM:+0200
TZOFFSETTO:+0100
TZNAME:CET
DTSTART:20221030T010000
END:STANDARD
END:VTIMEZONE
BEGIN:VEVENT
DTSTART;TZID=Europe/Berlin:20210918T200000
DTEND;TZID=Europe/Berlin:20210918T220000
DTSTAMP:20260420T075601
CREATED:20210918T145805Z
LAST-MODIFIED:20211010T144809Z
UID:3206-1631995200-1632002400@www.rryff.de
SUMMARY:Sept 18'2021 - Rock'n Roll in the Dschungel 'Garten Open-Air' Weilimdorf | RRYFF Live | kurzfristig
DESCRIPTION:Rock’n Roll Open-Air (private concert)\nEure berüchtigte Rockband RRYFF – mit der regional ungezügelten Rock’N Roll Power – lädt Euch zu einer wilden Open-Air Session in Weilimdorf ein!\n\nEuch erwartet ein phantastisches Konzert in großartigem Ambiente.\n\n18. September 2021  (Samstag)  ab 19:30 Uhr!\nEinlass: geladene Gäste nach 3G-Regeln\n  \nÜber Euren Besuch mit Beachten der gelockerten Regeln\, freuen wir uns -)\n  \nDas wird mega!!!\n\n\n\nInformationen zum Coronavirus\n\n\n\n\nAktuelle Regeln im Landkreis STUTTGART ( Stand ab 16.September 2021)\n\n\n\nDreistufiges Warnsystem ab 16. September 2021\nAb 16. September 2021 tritt ein dreistufiges Warnsystem in Kraft.\nDies bedeutet\, dass es strengere Regelungen bei abzeichnender Überlastung der Krankenhäuser geben wird.\nWarnstufe:\nDie Warnstufe wird ausgerufen\, wenn die Hospitalisierungsinzidenz an fünf Werktagen in Folge den\nWert von 8\,0 erreicht oder überschreitet oder die Auslastung der Intensivbetten in Baden-Württemberg an zwei aufeinanderfolgenden Werktagen den Wert von 250 erreicht oder überschreitet.\nAlarmstufe:\nDie Alarmstufe wird ausgerufen\, wenn die Hospitalisierungsinzidenz an fünf Werktagen in Folge den\nWert von 12\,0 erreicht oder überschreitet oder die Auslastung der Intensivbetten in Baden-Württemberg an zwei aufeinanderfolgenden Werktagen den Wert von 390 erreicht oder überschreitet.\nStand:\n15. September 2021 – weitere Informationen\, Inzidenzen und FAQ auf Baden-Württemberg.de\nBitte die bewährten Corona-Schutzregeln einhalten:\n* Abstand halten\n* Hygiene praktizieren\n* Medizinische Maske tragen\n* Corona-App nutzen\n* Regelmäßig lüften\nGrundsätzlich gilt:\nMedizinische Maskenpflicht ab 6 Jahre bleibt weiterhin bestehen.\nAusnahmen:\n» Kinder bis einschließlich 5 Jahre\n» Personen\, die aus gesundheitlichen Gründen keine Maske tragen können (ärztliche Bescheinigung notwendig)\n» In geschlossenen Räumen bei privaten Treffen\, privaten Feiern\, in der Gastronomie\, Kantinen\,\nMensen und Cafeterien während des Essens und Trinkens und beim Sport treiben\n» Im Freien nur dann\, wenn der Mindestabstand von 1\,5 Metern zu anderen Personen dauerhaft\neingehalten werden kann\nNachweis von Impfung und Tests\nVeranstalter*innen sind zur Überprüfung der Corona-Tests und Nachweise verpflichtet. Eine Plausibilitätskontrolle\,\ndurch Vorlage des Impfpasses oder des QR Codes in der App\, des 3G-Status ist ausreichend.
URL:https://www.rryff.de/wp-rryff-https/event/sept-182021-rockn-roll-in-the-dschungel-garten-open-air-weilimdorf-rryff-live-kurzfristig/
LOCATION:Baden-Württemberg
CATEGORIES:Einzel Events,Successful Events
ATTACH;FMTTYPE=image/jpeg:https://www.rryff.de/wp-rryff-https/wp-content/uploads/2015/06/janco-drum_330x500_04a.jpg
END:VEVENT
END:VCALENDAR